BEGIN:VCALENDAR
VERSION:2.0
PRODID:-//Sociedad Española de Neurocirugía Pediátrica SENEPE - ECPv4.4.1.1//NONSGML v1.0//EN
CALSCALE:GREGORIAN
METHOD:PUBLISH
X-WR-CALNAME:Sociedad Española de Neurocirugía Pediátrica SENEPE
X-ORIGINAL-URL:https://senepe.es
X-WR-CALDESC:Events for Sociedad Española de Neurocirugía Pediátrica SENEPE
BEGIN:VEVENT
DTSTART;VALUE=DATE:20251010
DTEND;VALUE=DATE:20251010
DTSTAMP:20260424T051647
CREATED:20250707T174712Z
LAST-MODIFIED:20250707T174824Z
UID:5892-1760054400-1760140799@senepe.es
SUMMARY:III Curso Teórico-Práctico sobre Craneosinostosis y Patología Craneofacial. HU La Paz. Madrid 2025
DESCRIPTION:El curso está dirigido a neurocirujanos y a cirujanos maxilofaciales.\nTiene como finalidad principal ampliar los conocimientos\, destreza y la experiencia de los\nprofesionales sanitarios\, para poder ofrecer los mejores resultados a sus pacientes.\nEstará dividido en una parte teórica y una parte en la que se pondrán en práctica los\nconocimientos adquiridos sobre fantomas 3D.\n \n\n \n\n[fusion_button link="https://senepe.es/wp-content/uploads/2025/07/III-Curso-Craneosinostosis-La-Paz.pdf" text_transform="" title="" target="_blank" link_attributes="" alignment="center" modal="" hide_on_mobile="small-visibility\,medium-visibility\,large-visibility" class="" id="" s2id_autogen21="" color="default" button_gradient_top_color="" button_gradient_bottom_color="" button_gradient_top_color_hover="" button_gradient_bottom_color_hover="" accent_color="" accent_hover_color="" type="" bevel_color="" border_width="" border_radius="0" border_color="" border_hover_color="" size="large" stretch="yes" icon="fa-download fas" icon_position="right" icon_divider="no" s2id_autogen22="" s2id_autogen22_search="" animation_type="" animation_direction="left" animation_speed="0.3" s2id_autogen23="" s2id_autogen23_search="" animation_offset=""]DESCARGAR PROGRAMA E INFORMACIÓN GENERAL EN PDF[/fusion_button]\n\n \n\n \n\n\n\n\n\n\n\n\n\n \n\n \n\n
URL:https://senepe.es/evento/iii-curso-teorico-practico-sobre-craneosinostosis-y-patologia-craneofacial-hu-la-paz-madrid-2025/
LOCATION:Paseo de la Castellana\, 261\, Madrid\, 28046\, España
CATEGORIES:III Curso Teórico-Práctico sobre Craneosinostosis y Patología
ATTACH;FMTTYPE=image/jpeg:https://senepe.es/wp-content/uploads/2025/07/PORTADA-HORIZONTAL-III_Curso_Craneosinostosis_La_Paz-2025-web-scaled.jpg
END:VEVENT
END:VCALENDAR