BEGIN:VCALENDAR
VERSION:2.0
PRODID:-//Sociedad Española de Neurocirugía Pediátrica SENEPE - ECPv4.4.1.1//NONSGML v1.0//EN
CALSCALE:GREGORIAN
METHOD:PUBLISH
X-WR-CALNAME:Sociedad Española de Neurocirugía Pediátrica SENEPE
X-ORIGINAL-URL:https://senepe.es
X-WR-CALDESC:Events for Sociedad Española de Neurocirugía Pediátrica SENEPE
BEGIN:VEVENT
DTSTART;VALUE=DATE:20230216
DTEND;VALUE=DATE:20230218
DTSTAMP:20260422T062141
CREATED:20230627T203121Z
LAST-MODIFIED:20230627T203304Z
UID:5423-1676505600-1676764799@senepe.es
SUMMARY:XXXVIII Reunión SENEP 2023
DESCRIPTION:Queridos compañeros y amigos:\n\nEs un placer para mí presentaros la XXXVIII Reunión de la Sociedad Española de Neurocirugía Pediátrica en Badajoz\, que vamos a celebrar del 16 al 18 de febrero de 2023.\n\nComo bien sabéis desde hace años tengo muchas ganas de invitaros a todos a Extremadura\, mi tierra\, tanto a aquellos que la conocéis como a los que aun no la habéis visitado. Tras algunos intentos en la pasada década\, por fin vamos a poder reunirnos aquí\, en Badajoz.\n\nEstamos preparando un programa tanto científico como cultural que esperamos sea de vuestro agrado. Queremos honrar a nuestros maestros y pioneros de nuestra Sociedad\, así como acoger en la misma a nuestros “hermanos”\, los neurocirujanos pediátricos portugueses. Es por ello que la Sociedad Española de Neurocirugía Pediátrica ha realizado invitación formal a la Sociedad Portuguesa de Neurocirugía\, y cuya presidenta\, la Dra. Patricia Polonia ha aceptado dicha invitación en nombre de su Sociedad.\n\nCon todo ello\, os animamos a acudir a Badajoz\, ciudad fronteriza\, a disfrutar de su cultura\, su enclave\, sus gentes\, su gastronomía y como no\, de sus carnavales\, pero sobre todo os animamos a reunirnos como colegas y amigos\, y a profundizar las relaciones entre los neurocirujanos portugueses y españoles\, que tanto tenemos en común. Como es tradición en nuestras reuniones\, las sesiones científicas darán cabida a todas las ramas de la neurocirugía pediátrica\, con charlas magistrales\, mesas redondas\, comunicaciones libres orales y posters\, así como talleres prácticos y las últimas novedades científicas. Además\, tendremos un momento para recordar nuestra historia de la mano de sus protagonistas.\n\nTanto el Comité Organizador como el Científico os agradecemos vuestra participación y presencia en este congreso\, y nos gustaría escuchar comunicaciones de todos los servicios españoles y portugueses de neurocirugía\, para poder compartir experiencias profesionales y personales\, y disfrutar todos de este intercambio.\n\nMuchas gracias y OS ESPERAMOS EN BADAJOZ.\n\nDr. Jorge Giménez Pando\nPresidente Comité Organizador SENEP 2023\n\n \n\n[fusion_button link="https://senepe.es/wp-content/uploads/2023/06/programa-senep2023-web.pdf" text_transform="" title="" target="_blank" link_attributes="" alignment="" modal="" hide_on_mobile="small-visibility\,medium-visibility\,large-visibility" class="" id="" s2id_autogen27="" s2id_autogen27_search="" color="default" button_gradient_top_color="" button_gradient_bottom_color="" button_gradient_top_color_hover="" button_gradient_bottom_color_hover="" accent_color="" accent_hover_color="" type="" bevel_color="" border_width="" border_radius="" border_color="" border_hover_color="" size="large" stretch="default" icon="fa-download fas" icon_position="right" icon_divider="no" s2id_autogen28="" s2id_autogen28_search="" animation_type="" animation_direction="left" animation_speed="0.3" s2id_autogen29="" s2id_autogen29_search="" animation_offset=""]DESCARGAR PROGRAMA EN PDF[/fusion_button]\n\n[fusion_separator s2id_autogen22="" style_type="none" hide_on_mobile="small-visibility\,medium-visibility\,large-visibility" class="" id="" sep_color="" top_margin="45px" bottom_margin="" border_size="0" icon="" icon_size="" icon_circle="" icon_circle_color="" width="" alignment="center"][/fusion_separator]
URL:https://senepe.es/evento/xxxviii-reunion-senep-2023/
LOCATION:Rda. del Pilar\, S/N\, Badajoz\, 06002\, España
CATEGORIES:Reunión Sociedad Española de Neurocirugía Pediátrica SENEP
ATTACH;FMTTYPE=image/jpeg:https://senepe.es/wp-content/uploads/2023/06/img-destacada-senep2023.jpg
ORGANIZER;CN="Solutions%20Eventos%20I%20Grupo%20Solution":MAILTO:eventos@solutionseventos.es
END:VEVENT
END:VCALENDAR