BEGIN:VCALENDAR
VERSION:2.0
PRODID:-//Sociedad Española de Neurocirugía Pediátrica SENEPE - ECPv4.4.1.1//NONSGML v1.0//EN
CALSCALE:GREGORIAN
METHOD:PUBLISH
X-WR-CALNAME:Sociedad Española de Neurocirugía Pediátrica SENEPE
X-ORIGINAL-URL:https://senepe.es
X-WR-CALDESC:Events for Sociedad Española de Neurocirugía Pediátrica SENEPE
BEGIN:VEVENT
DTSTART;VALUE=DATE:20181007
DTEND;VALUE=DATE:20181011
DTSTAMP:20260423T045919
CREATED:20180223T011659Z
LAST-MODIFIED:20180223T014626Z
UID:3432-1538870400-1539302399@senepe.es
SUMMARY:46th Annual Meeting of the ISPN
DESCRIPTION:The 46th Annual Meeting of the International Society for Pediatric Neurosurgery (ISPN 2018) offers an outstanding scientific program presented by global experts and distinguished neurosurgeons specialized in pediatric neurosurgery. The ISPN Meeting is the central meeting place for increasing international cooperation and exploring the latest topics in the field of pediatric neurosurgery.\n\nJoin experts from around the world in Tel-Aviv\, a start-up city and leader in innovation & technology\, to discuss all aspects of pediatric neurosurgery under one roof. With educational courses\, symposium\, lectures and plenty of networking opportunities\, ISPN will enhance your practical and theoretical knowledge and put you at the forefront.\n\nSee you in Tel Aviv!
URL:https://senepe.es/evento/46th-annual-meeting-of-the-ispn/
LOCATION:Israel
CATEGORIES:ISPN - Tel Aviv 2018
ATTACH;FMTTYPE=image/jpeg:https://senepe.es/wp-content/uploads/2018/02/ispn-tel-aviv.jpg
END:VEVENT
END:VCALENDAR