BEGIN:VCALENDAR
VERSION:2.0
PRODID:-//Sociedad Española de Neurocirugía Pediátrica SENEPE - ECPv4.4.1.1//NONSGML v1.0//EN
CALSCALE:GREGORIAN
METHOD:PUBLISH
X-WR-CALNAME:Sociedad Española de Neurocirugía Pediátrica SENEPE
X-ORIGINAL-URL:https://senepe.es
X-WR-CALDESC:Events for Sociedad Española de Neurocirugía Pediátrica SENEPE
BEGIN:VEVENT
DTSTART;VALUE=DATE:20180506
DTEND;VALUE=DATE:20180509
DTSTAMP:20260423T023903
CREATED:20180223T004903Z
LAST-MODIFIED:20180223T004949Z
UID:3421-1525564800-1525910399@senepe.es
SUMMARY:26th Spin Biennal Congress of the European Society for Pediatric Neurosurgery
DESCRIPTION:Dear colleagues and friends\,\nIt is a great honour and pleasure to invite you to the 26th Biennial Congress of the European Society for Pediatric Neurosurgery (ESPN)\, which will be held in Bonn\, Germany\, from May 6 to May 9\, 2018.\n\nIt is a good tradition to combine an update of academic achievements and advances in pediatric neurosurgery with the great occasion of meeting new and old friends during the biennial society congress. An interesting scientific program is waiting for you covering all aspects of our field with special highlights on rare topics and newest developments. This time we are planning parallel scientific sessions. Beside main lectures\, additional satellite sessions on selected topics as well as poster sessions are intended in order to reduce the number of flash presentations.\nYou are all cordially invited to join us for an inspiring meeting in Bonn.\n\nProf. Dr. A. Martina Messing-Jünger\nESPN President
URL:https://senepe.es/evento/26th-spin-biennal-congress-of-the-european-society-for-pediatric-neurosurgery/
LOCATION:Alemania
CATEGORIES:Spin Biennal
ATTACH;FMTTYPE=image/jpeg:https://senepe.es/wp-content/uploads/2018/02/26-biennalspin.jpg
ORGANIZER;CN="European%20Society%20for%20Pediatric%20Neurosurgery":MAILTO:info@espncongress.org
END:VEVENT
END:VCALENDAR