BEGIN:VCALENDAR
VERSION:2.0
PRODID:-//Sociedad Española de Neurocirugía Pediátrica SENEPE - ECPv4.4.1.1//NONSGML v1.0//EN
CALSCALE:GREGORIAN
METHOD:PUBLISH
X-WR-CALNAME:Sociedad Española de Neurocirugía Pediátrica SENEPE
X-ORIGINAL-URL:https://senepe.es
X-WR-CALDESC:Events for Sociedad Española de Neurocirugía Pediátrica SENEPE
BEGIN:VEVENT
DTSTART;VALUE=DATE:20180419
DTEND;VALUE=DATE:20180421
DTSTAMP:20260423T023649
CREATED:20180222T160348Z
LAST-MODIFIED:20180222T160509Z
UID:3374-1524096000-1524355199@senepe.es
SUMMARY:13th Congress of the European Skull Base Society
DESCRIPTION:\nWelcome of the Congress Presidents\n\n\n\nSpring in Warsaw/Poland in 2018 (April 19-21). This city will host you for the 13th European Skull Base Society Congress.\nAll specialists involved in this topic are cordially invited to join this event for “Mutual learning - overcoming limitations”. Scientific program including growing achievements after Berlin Congress will offer you all opportunities to improve knowledge and skills to follow state-of-the-art in skull base disorders and management.\n\nWe encourage all of you neuro-\, ENT-\, and maxillofacial-surgeons\, neuroradiologists\, radio-oncologists\, head\, neck- and reconstructive surgeons as well as basic researchers\, especially the junior reserachers\, and all other health care professionals interested in skull base to join us in Warsaw.\n\nThis will be supplemented by social program in special places of national and cultural heritage of Warsaw.\n\nWe are looking forward for your active contribution to the Congress program as well as to your participation.\n\n\n
URL:https://senepe.es/evento/13th-congress-of-the-european-skull-base-society/
LOCATION:Varsovia\, 00-844\, Polonia
CATEGORIES:ESBS - European Skull Base Society
ATTACH;FMTTYPE=image/jpeg:https://senepe.es/wp-content/uploads/2018/02/varsovia-polonia-senep.jpg
END:VEVENT
END:VCALENDAR